BEGIN:VCALENDAR
VERSION:2.0
PRODID:-//Pro Tae Kwon Do - ECPv6.15.20//NONSGML v1.0//EN
CALSCALE:GREGORIAN
METHOD:PUBLISH
X-WR-CALNAME:Pro Tae Kwon Do
X-ORIGINAL-URL:https://masterkwonsprotkd.com.au
X-WR-CALDESC:Events for Pro Tae Kwon Do
REFRESH-INTERVAL;VALUE=DURATION:PT1H
X-Robots-Tag:noindex
X-PUBLISHED-TTL:PT1H
BEGIN:VTIMEZONE
TZID:UTC
BEGIN:STANDARD
TZOFFSETFROM:+0000
TZOFFSETTO:+0000
TZNAME:UTC
DTSTART:20230101T000000
END:STANDARD
END:VTIMEZONE
BEGIN:VEVENT
DTSTART;VALUE=DATE:20240930
DTEND;VALUE=DATE:20241012
DTSTAMP:20260421T095707
CREATED:20240924T232911Z
LAST-MODIFIED:20240924T232911Z
UID:4672-1727654400-1728691199@masterkwonsprotkd.com.au
SUMMARY:Spring School Holidays 2024
DESCRIPTION:🌼𝗦𝗣𝗥𝗜𝗡𝗚 𝗦𝗖𝗛𝗢𝗢𝗟 𝗛𝗢𝗟𝗜𝗗𝗔𝗬𝗦🌼 \nHi Everyone! \n🔹Kogarah Dojang will be OPEN during the School Holidays!✨ \n🔹Regular class times and schedules \n🔸Kurnell Dojang will be closed during the School Holidays \n🔸Term 4 Classes will commence on MONDAY\, 14TH OCTOBER 2024 \nThank you!❤️💙
URL:https://masterkwonsprotkd.com.au/event/spring-school-holidays-2024/
LOCATION:NSW
CATEGORIES:Event
ATTACH;FMTTYPE=image/png:https://masterkwonsprotkd.com.au/wp-content/uploads/2024/09/Spring-School-Hoilidays-2024.png
END:VEVENT
BEGIN:VEVENT
DTSTART;TZID=UTC:20241014T170000
DTEND;TZID=UTC:20241014T180000
DTSTAMP:20260421T095707
CREATED:20240802T234816Z
LAST-MODIFIED:20241013T194939Z
UID:4603-1728925200-1728928800@masterkwonsprotkd.com.au
SUMMARY:Kurnell - Term 4 Classes
DESCRIPTION:
URL:https://masterkwonsprotkd.com.au/event/kurnell-term-4-classes/
LOCATION:Master Kwon’s PTKD – Kurnell\, 96 Captain Cook Dr\, Kurnell\, NSW\, 2231\, Australia
CATEGORIES:Event
ATTACH;FMTTYPE=image/png:https://masterkwonsprotkd.com.au/wp-content/uploads/2024/10/Blue-White-Illustrative-Back-to-School-Facebook-Post.png
END:VEVENT
END:VCALENDAR