BEGIN:VCALENDAR
VERSION:2.0
PRODID:-//Pro Tae Kwon Do - ECPv6.15.20//NONSGML v1.0//EN
CALSCALE:GREGORIAN
METHOD:PUBLISH
X-ORIGINAL-URL:https://masterkwonsprotkd.com.au
X-WR-CALDESC:Events for Pro Tae Kwon Do
REFRESH-INTERVAL;VALUE=DURATION:PT1H
X-Robots-Tag:noindex
X-PUBLISHED-TTL:PT1H
BEGIN:VTIMEZONE
TZID:UTC
BEGIN:STANDARD
TZOFFSETFROM:+0000
TZOFFSETTO:+0000
TZNAME:UTC
DTSTART:20230101T000000
END:STANDARD
END:VTIMEZONE
BEGIN:VEVENT
DTSTART;VALUE=DATE:20240812
DTEND;VALUE=DATE:20240911
DTSTAMP:20260421T124313
CREATED:20240813T070225Z
LAST-MODIFIED:20240813T070421Z
UID:4631-1723420800-1726012799@masterkwonsprotkd.com.au
SUMMARY:VOTINGS OPEN - 2024 Bayside Local Business Awards
DESCRIPTION:Hi Everyone! \n▪️Votings for the 2024 Bayside Local Business Awards have launched! \n▫️We are so excited and honoured to be in the running again for this years Local Business Awards! \n▪️We would greatly appreciate it if you could please spare a couple of minutes to support us by voting! \n▫️Also would love it if you could please share and encourage your family and friends to support us by voting too!🥳 \n🔺𝗩𝗢𝗧𝗜𝗡𝗚 𝗠𝗘𝗧𝗛𝗢𝗗𝗦🔻 \n𝟭. Click the following link: \nhttps://thebusinessawards.com.au/58990/master-kwons-pro-tae-kwon-do-academy \n𝟮. Scan the QR Code \n𝟯. Head to Local Business Awards and Search “Master Kwon’s Pro Tae Kwon Do Academy” \n‼️To finalise your vote\, make sure to check your email to 𝗖𝗢𝗡𝗙𝗜𝗥𝗠 𝗬𝗢𝗨𝗥 𝗩𝗢𝗧𝗘!‼️ \n𝗩𝗢𝗧𝗜𝗡𝗚𝗦 𝗖𝗟𝗢𝗦𝗘: 𝟭𝟬𝗧𝗛 𝗦𝗘𝗣𝗧𝗘𝗠𝗕𝗘𝗥 𝟮𝟬𝟮𝟰 \nThank you so much and we appreciate all the constant love and support you give us❤️💙
URL:https://masterkwonsprotkd.com.au/event/votings-open-2024-bayside-local-business-awards/
LOCATION:NSW
CATEGORIES:Event
ATTACH;FMTTYPE=image/png:https://masterkwonsprotkd.com.au/wp-content/uploads/2024/08/Screen-Shot-2024-08-13-at-4.57.47-pm.png
END:VEVENT
BEGIN:VEVENT
DTSTART;VALUE=DATE:20240816
DTEND;VALUE=DATE:20240817
DTSTAMP:20260421T124313
CREATED:20240802T234208Z
LAST-MODIFIED:20240802T234208Z
UID:4598-1723766400-1723852799@masterkwonsprotkd.com.au
SUMMARY:Kogarah - 2024 Mid Year Grading Applications & Payments DUE!!
DESCRIPTION:
URL:https://masterkwonsprotkd.com.au/event/kogarah-2024-mid-year-grading-applications-payments-due/
LOCATION:Master Kwon’s Pro Tae Kwon Do Academy\, 1 Robertson Street\, Kogarah\, NSW\, 2217\, Australia
CATEGORIES:Grading
ATTACH;FMTTYPE=image/png:https://masterkwonsprotkd.com.au/wp-content/uploads/2024/08/Screen-Shot-2024-08-03-at-9.40.09-am.png
END:VEVENT
BEGIN:VEVENT
DTSTART;TZID=UTC:20240823T163000
DTEND;TZID=UTC:20240823T203000
DTSTAMP:20260421T124313
CREATED:20240603T065334Z
LAST-MODIFIED:20240603T065435Z
UID:4537-1724430600-1724445000@masterkwonsprotkd.com.au
SUMMARY:Kogarah - 2024 Mid-Year Grading
DESCRIPTION:Our Kogarah Mid-Year Grading will be held on Friday 23rd August 2024. \n\n\n\nMake sure to save the date and mark it down in your diaries/calendars! \n\n\n\nGrading Application Forms\, Fees & Photo all due: Friday 16th August 2024. \n\n\n\nAny additional questions\, feel free to reach out to us😊 \n\n\n\nThank you and we truly appreciate all your constant love and support❤️💙 \n\n\n\n-MKPTKD
URL:https://masterkwonsprotkd.com.au/event/kogarah-2024-mid-year-grading/
LOCATION:Master Kwon’s Pro Tae Kwon Do Academy\, 1 Robertson Street\, Kogarah\, NSW\, 2217\, Australia
CATEGORIES:Event
ATTACH;FMTTYPE=image/png:https://masterkwonsprotkd.com.au/wp-content/uploads/2024/06/Grading-Save-the-date.png
END:VEVENT
BEGIN:VEVENT
DTSTART;TZID=UTC:20240830T163000
DTEND;TZID=UTC:20240830T193000
DTSTAMP:20260421T124313
CREATED:20240824T003306Z
LAST-MODIFIED:20240824T003306Z
UID:4643-1725035400-1725046200@masterkwonsprotkd.com.au
SUMMARY:Kogarah - 2024 Mid-Year Presentation
DESCRIPTION:
URL:https://masterkwonsprotkd.com.au/event/kogarah-2024-mid-year-presentation/
LOCATION:Master Kwon’s Pro Tae Kwon Do Academy\, 1 Robertson Street\, Kogarah\, NSW\, 2217\, Australia
CATEGORIES:Presentation
ATTACH;FMTTYPE=image/png:https://masterkwonsprotkd.com.au/wp-content/uploads/2024/08/Screen-Shot-2024-08-24-at-10.32.18-am.png
END:VEVENT
END:VCALENDAR