BEGIN:VCALENDAR
VERSION:2.0
PRODID:-//Pro Tae Kwon Do - ECPv6.15.20//NONSGML v1.0//EN
CALSCALE:GREGORIAN
METHOD:PUBLISH
X-ORIGINAL-URL:https://masterkwonsprotkd.com.au
X-WR-CALDESC:Events for Pro Tae Kwon Do
REFRESH-INTERVAL;VALUE=DURATION:PT1H
X-Robots-Tag:noindex
X-PUBLISHED-TTL:PT1H
BEGIN:VTIMEZONE
TZID:UTC
BEGIN:STANDARD
TZOFFSETFROM:+0000
TZOFFSETTO:+0000
TZNAME:UTC
DTSTART:20230101T000000
END:STANDARD
END:VTIMEZONE
BEGIN:VEVENT
DTSTART;VALUE=DATE:20240618
DTEND;VALUE=DATE:20240801
DTSTAMP:20260421T142028
CREATED:20240802T233851Z
LAST-MODIFIED:20240802T233851Z
UID:4596-1718668800-1722470399@masterkwonsprotkd.com.au
SUMMARY:Grandmaster Kim X MKPTKD - 2024 Hapkido Workshop
DESCRIPTION:
URL:https://masterkwonsprotkd.com.au/event/grandmaster-kim-x-mkptkd-2024-hapkido-workshop/
LOCATION:NSW
CATEGORIES:Event
ATTACH;FMTTYPE=image/png:https://masterkwonsprotkd.com.au/wp-content/uploads/2024/08/Screen-Shot-2024-08-03-at-9.32.23-am.png
END:VEVENT
BEGIN:VEVENT
DTSTART;VALUE=DATE:20240701
DTEND;VALUE=DATE:20240702
DTSTAMP:20260421T142028
CREATED:20240704T092907Z
LAST-MODIFIED:20240704T092907Z
UID:4574-1719792000-1719878399@masterkwonsprotkd.com.au
SUMMARY:Kurnell - Last Day of Term 2
DESCRIPTION:
URL:https://masterkwonsprotkd.com.au/event/kurnell-last-day-of-term-2/
LOCATION:Master Kwon’s PTKD – Kurnell\, 96 Captain Cook Dr\, Kurnell\, NSW\, 2231\, Australia
ATTACH;FMTTYPE=image/png:https://masterkwonsprotkd.com.au/wp-content/uploads/2024/07/Screen-Shot-2024-07-04-at-7.26.27-pm.png
END:VEVENT
BEGIN:VEVENT
DTSTART;TZID=UTC:20240701T170000
DTEND;TZID=UTC:20240701T180000
DTSTAMP:20260421T142028
CREATED:20240223T055813Z
LAST-MODIFIED:20240223T055813Z
UID:4381-1719853200-1719856800@masterkwonsprotkd.com.au
SUMMARY:KURNELL - 2024 SEM 1 GRADING
DESCRIPTION:
URL:https://masterkwonsprotkd.com.au/event/kurnell-2024-sem-1-grading/
LOCATION:Master Kwon’s PTKD – Kurnell\, 96 Captain Cook Dr\, Kurnell\, NSW\, 2231\, Australia
CATEGORIES:Grading
ATTACH;FMTTYPE=image/png:https://masterkwonsprotkd.com.au/wp-content/uploads/2024/02/Copy-of-Yellow-Black-Modern-Bold-Bachelor-Save-the-Date-Invitation.png
END:VEVENT
BEGIN:VEVENT
DTSTART;TZID=UTC:20240708T080000
DTEND;TZID=UTC:20240719T170000
DTSTAMP:20260421T142028
CREATED:20240703T015614Z
LAST-MODIFIED:20240703T020723Z
UID:4564-1720425600-1721408400@masterkwonsprotkd.com.au
SUMMARY:Winter School Holidays 2024
DESCRIPTION:Hi Everyone! \n\n\n\n🔹Kogarah Dojang will be OPEN during the School Holidays!✨ \n\n\n\n🔹Regular class times and schedules \n\n\n\n🔸Kurnell Dojang will be CLOSED during the School Holidays \n\n\n\n🔸Term 3 Classes will commence on MONDAY\, 22ND JULY 2024 \n\n\n\nThank you!❤️💙
URL:https://masterkwonsprotkd.com.au/event/winter-school-holidays-2024/
LOCATION:Master Kwon’s Pro Tae Kwon Do Academy\, 1 Robertson Street\, Kogarah\, NSW\, 2217\, Australia
ATTACH;FMTTYPE=image/png:https://masterkwonsprotkd.com.au/wp-content/uploads/2024/07/White-and-Grey-Modern-We-Are-Open-Facebook-Post.png
END:VEVENT
BEGIN:VEVENT
DTSTART;VALUE=DATE:20240722
DTEND;VALUE=DATE:20240723
DTSTAMP:20260421T142028
CREATED:20240702T041340Z
LAST-MODIFIED:20240702T041340Z
UID:4562-1721606400-1721692799@masterkwonsprotkd.com.au
SUMMARY:Kurnell - Term 3 Classes
DESCRIPTION:
URL:https://masterkwonsprotkd.com.au/event/kurnell-term-3-classes-2/
LOCATION:Master Kwon’s PTKD – Kurnell\, 96 Captain Cook Dr\, Kurnell\, NSW\, 2231\, Australia
CATEGORIES:Event
ATTACH;FMTTYPE=image/png:https://masterkwonsprotkd.com.au/wp-content/uploads/2024/07/Screen-Shot-2024-07-02-at-2.09.34-pm.png
END:VEVENT
END:VCALENDAR