BEGIN:VCALENDAR
VERSION:2.0
PRODID:-//Pro Tae Kwon Do - ECPv6.15.20//NONSGML v1.0//EN
CALSCALE:GREGORIAN
METHOD:PUBLISH
X-ORIGINAL-URL:https://masterkwonsprotkd.com.au
X-WR-CALDESC:Events for Pro Tae Kwon Do
REFRESH-INTERVAL;VALUE=DURATION:PT1H
X-Robots-Tag:noindex
X-PUBLISHED-TTL:PT1H
BEGIN:VTIMEZONE
TZID:UTC
BEGIN:STANDARD
TZOFFSETFROM:+0000
TZOFFSETTO:+0000
TZNAME:UTC
DTSTART:20230101T000000
END:STANDARD
END:VTIMEZONE
BEGIN:VEVENT
DTSTART;TZID=UTC:20240329T080000
DTEND;TZID=UTC:20240401T170000
DTSTAMP:20260421T181536
CREATED:20240319T061850Z
LAST-MODIFIED:20240409T064817Z
UID:4396-1711699200-1711990800@masterkwonsprotkd.com.au
SUMMARY:Easter Break 2024
DESCRIPTION:🐰𝗘𝗔𝗦𝗧𝗘𝗥 𝗕𝗥𝗘𝗔𝗞 𝟮𝟬𝟮𝟰 – 𝗡𝗢 𝗖𝗟𝗔𝗦𝗦𝗘𝗦🐰 \nHi Everyone\,  \nKogarah Dojang | Good Friday (29.03.2024) – CLOSED \nKurnell Dojang | Easter Monday (01.04.2024) – CLOSED \nThank you!!💛
URL:https://masterkwonsprotkd.com.au/event/easter-break-2024/
LOCATION:NSW
CATEGORIES:Event
ATTACH;FMTTYPE=image/png:https://masterkwonsprotkd.com.au/wp-content/uploads/2024/03/Cream-Modern-Easter-Business-Open-Hours-Instagram-Post.png
END:VEVENT
BEGIN:VEVENT
DTSTART;TZID=UTC:20240408T170000
DTEND;TZID=UTC:20240408T180000
DTSTAMP:20260421T181536
CREATED:20240408T113742Z
LAST-MODIFIED:20240408T113742Z
UID:4456-1712595600-1712599200@masterkwonsprotkd.com.au
SUMMARY:Kurnell - Term 1 Classes - Last Day
DESCRIPTION:
URL:https://masterkwonsprotkd.com.au/event/kurnell-term-1-classes-last-day/
LOCATION:Master Kwon’s PTKD – Kurnell\, 96 Captain Cook Dr\, Kurnell\, NSW\, 2231\, Australia
ATTACH;FMTTYPE=image/jpeg:https://masterkwonsprotkd.com.au/wp-content/uploads/2023/07/IMG_8067.jpg
END:VEVENT
BEGIN:VEVENT
DTSTART;VALUE=DATE:20240415
DTEND;VALUE=DATE:20240427
DTSTAMP:20260421T181536
CREATED:20240411T230027Z
LAST-MODIFIED:20240411T230027Z
UID:4468-1713139200-1714175999@masterkwonsprotkd.com.au
SUMMARY:Autumn School Holidays 2024
DESCRIPTION:🍂𝗔𝗨𝗧𝗨𝗠𝗡 𝗦𝗖𝗛𝗢𝗢𝗟 𝗛𝗢𝗟𝗜𝗗𝗔𝗬𝗦🍂 \nHi Everyone! \n🔹Kogarah Dojang will be OPEN during the School Holidays!✨ \n🔹Regular class times and schedules \n🔸Kurnell Dojang will be CLOSED during the School Holidays \n🔸Term 2 Classes will commence on MONDAY\, 29TH APRIL 2024 \nThank you!❤️💙
URL:https://masterkwonsprotkd.com.au/event/autumn-school-holidays-2024/
LOCATION:NSW
ATTACH;FMTTYPE=image/png:https://masterkwonsprotkd.com.au/wp-content/uploads/2024/04/School-Holidays-OPEN.png
END:VEVENT
BEGIN:VEVENT
DTSTART;VALUE=DATE:20240425
DTEND;VALUE=DATE:20240426
DTSTAMP:20260421T181536
CREATED:20240409T064739Z
LAST-MODIFIED:20240409T064739Z
UID:4460-1714003200-1714089599@masterkwonsprotkd.com.au
SUMMARY:Anzac Day 2024
DESCRIPTION:
URL:https://masterkwonsprotkd.com.au/event/anzac-day-2024/
LOCATION:Master Kwon’s Pro Tae Kwon Do Academy\, 1 Robertson Street\, Kogarah\, NSW\, 2217\, Australia
ATTACH;FMTTYPE=image/png:https://masterkwonsprotkd.com.au/wp-content/uploads/2024/04/ANZAC-DAY-IG-SQUARE-POST.png
END:VEVENT
BEGIN:VEVENT
DTSTART;VALUE=DATE:20240426
DTEND;VALUE=DATE:20240427
DTSTAMP:20260421T181536
CREATED:20240408T114003Z
LAST-MODIFIED:20240408T114106Z
UID:4458-1714089600-1714175999@masterkwonsprotkd.com.au
SUMMARY:Kogarah - May Grading Application & Payments DUE!!
DESCRIPTION:
URL:https://masterkwonsprotkd.com.au/event/kogarah-may-grading-application-payments-due/
LOCATION:Master Kwon’s Pro Tae Kwon Do Academy\, 1 Robertson Street\, Kogarah\, NSW\, 2217\, Australia
ATTACH;FMTTYPE=image/png:https://masterkwonsprotkd.com.au/wp-content/uploads/2023/12/SS-30.png
END:VEVENT
BEGIN:VEVENT
DTSTART;TZID=UTC:20240429T170000
DTEND;TZID=UTC:20240429T180000
DTSTAMP:20260421T181536
CREATED:20240408T113558Z
LAST-MODIFIED:20240408T113558Z
UID:4453-1714410000-1714413600@masterkwonsprotkd.com.au
SUMMARY:Kurnell - Term 2 Classes
DESCRIPTION:
URL:https://masterkwonsprotkd.com.au/event/kurnell-term-2-classes/
LOCATION:Master Kwon’s PTKD – Kurnell\, 96 Captain Cook Dr\, Kurnell\, NSW\, 2231\, Australia
CATEGORIES:Event
ATTACH;FMTTYPE=image/jpeg:https://masterkwonsprotkd.com.au/wp-content/uploads/2024/04/IMG_2797.jpg
END:VEVENT
END:VCALENDAR