BEGIN:VCALENDAR
VERSION:2.0
PRODID:-//Pro Tae Kwon Do - ECPv6.15.20//NONSGML v1.0//EN
CALSCALE:GREGORIAN
METHOD:PUBLISH
X-ORIGINAL-URL:https://masterkwonsprotkd.com.au
X-WR-CALDESC:Events for Pro Tae Kwon Do
REFRESH-INTERVAL;VALUE=DURATION:PT1H
X-Robots-Tag:noindex
X-PUBLISHED-TTL:PT1H
BEGIN:VTIMEZONE
TZID:UTC
BEGIN:STANDARD
TZOFFSETFROM:+0000
TZOFFSETTO:+0000
TZNAME:UTC
DTSTART:20220101T000000
END:STANDARD
END:VTIMEZONE
BEGIN:VEVENT
DTSTART;TZID=UTC:20230117T163000
DTEND;TZID=UTC:20230117T193000
DTSTAMP:20260424T164515
CREATED:20221212T102547Z
LAST-MODIFIED:20221212T102908Z
UID:3951-1673973000-1673983800@masterkwonsprotkd.com.au
SUMMARY:Kogarah 2023 Classes Resume
DESCRIPTION:
URL:https://masterkwonsprotkd.com.au/event/kogarah-2023-classes-resume/
LOCATION:Master Kwon’s Pro Tae Kwon Do Academy\, 1 Robertson Street\, Kogarah\, NSW\, 2217\, Australia
CATEGORIES:Event
ATTACH;FMTTYPE=image/jpeg:https://masterkwonsprotkd.com.au/wp-content/uploads/2021/06/IMG_1258.jpg
END:VEVENT
BEGIN:VEVENT
DTSTART;TZID=UTC:20230130T170000
DTEND;TZID=UTC:20230130T180000
DTSTAMP:20260424T164515
CREATED:20221212T102721Z
LAST-MODIFIED:20221212T102750Z
UID:3953-1675098000-1675101600@masterkwonsprotkd.com.au
SUMMARY:Kurnell 2023 Classes Resume
DESCRIPTION:
URL:https://masterkwonsprotkd.com.au/event/kurnell-2023-classes-resume/
LOCATION:Master Kwon’s PTKD – Kurnell\, 96 Captain Cook Dr\, Kurnell\, NSW\, 2231\, Australia
CATEGORIES:Event
ATTACH;FMTTYPE=image/jpeg:https://masterkwonsprotkd.com.au/wp-content/uploads/2022/11/IMG_3112-scaled.jpg
END:VEVENT
END:VCALENDAR