BEGIN:VCALENDAR
VERSION:2.0
PRODID:-//Pro Tae Kwon Do - ECPv6.15.20//NONSGML v1.0//EN
CALSCALE:GREGORIAN
METHOD:PUBLISH
X-ORIGINAL-URL:https://masterkwonsprotkd.com.au
X-WR-CALDESC:Events for Pro Tae Kwon Do
REFRESH-INTERVAL;VALUE=DURATION:PT1H
X-Robots-Tag:noindex
X-PUBLISHED-TTL:PT1H
BEGIN:VTIMEZONE
TZID:UTC
BEGIN:STANDARD
TZOFFSETFROM:+0000
TZOFFSETTO:+0000
TZNAME:UTC
DTSTART:20210101T000000
END:STANDARD
END:VTIMEZONE
BEGIN:VEVENT
DTSTART;TZID=UTC:20220620T170000
DTEND;TZID=UTC:20220620T170000
DTSTAMP:20260425T042627
CREATED:20220329T104722Z
LAST-MODIFIED:20220329T114650Z
UID:3617-1655744400-1655744400@masterkwonsprotkd.com.au
SUMMARY:KURNELL 2022 TERM 1 GRADING APPLICATION FORMS + FEES + PHOTO DEADLINE
DESCRIPTION:Hi everyone! \n▫️Grading Application Forms\, Fees and Photos are all due MONDAY\, 20TH JUNE 2022 \n▫️Please do not forgot or you may not be able to participate in the Grading.  \n▪️Please let us know if you need the link to the Grading Application Form \nThank you!
URL:https://masterkwonsprotkd.com.au/event/kurnell-2022-term-1-grading-application-forms-fees-photo-deadline/
LOCATION:Master Kwon’s PTKD – Kurnell\, 96 Captain Cook Dr\, Kurnell\, NSW\, 2231\, Australia
CATEGORIES:Grading
ATTACH;FMTTYPE=image/jpeg:https://masterkwonsprotkd.com.au/wp-content/uploads/2022/03/IMG_3487.jpg
END:VEVENT
BEGIN:VEVENT
DTSTART;TZID=UTC:20220627T170000
DTEND;TZID=UTC:20220627T180000
DTSTAMP:20260425T042627
CREATED:20220329T103835Z
LAST-MODIFIED:20220329T103835Z
UID:3609-1656349200-1656352800@masterkwonsprotkd.com.au
SUMMARY:Kurnell 2022 Term 1 Grading
DESCRIPTION:Hi everyone\,  \n\nGrading will start at 5pm sharp and will aim to finish at 6pm\nPlease come in early to get in some extra practice and stretching \nFull white uniform must be worn \n\n▪️If you happen to display any flu-like symptoms please refrain from coming to the Dojang and let us know beforehand.  \n▫️Any further questions\, feel free to reach out at anytime.  \n▫️Good luck to all grading participants! We know you will absolutely smash it!🌟 \nThank you so much for your constant cooperation and support. We truly appreciate you all.❤️
URL:https://masterkwonsprotkd.com.au/event/kurnell-2022-term-1-grading/
LOCATION:Master Kwon’s PTKD – Kurnell\, 96 Captain Cook Dr\, Kurnell\, NSW\, 2231\, Australia
CATEGORIES:Event,Grading
ATTACH;FMTTYPE=image/jpeg:https://masterkwonsprotkd.com.au/wp-content/uploads/2022/03/IMG_3489.jpg
END:VEVENT
END:VCALENDAR