BEGIN:VCALENDAR
VERSION:2.0
PRODID:-//Pro Tae Kwon Do - ECPv6.15.20//NONSGML v1.0//EN
CALSCALE:GREGORIAN
METHOD:PUBLISH
X-ORIGINAL-URL:https://masterkwonsprotkd.com.au
X-WR-CALDESC:Events for Pro Tae Kwon Do
REFRESH-INTERVAL;VALUE=DURATION:PT1H
X-Robots-Tag:noindex
X-PUBLISHED-TTL:PT1H
BEGIN:VTIMEZONE
TZID:UTC
BEGIN:STANDARD
TZOFFSETFROM:+0000
TZOFFSETTO:+0000
TZNAME:UTC
DTSTART:20200101T000000
END:STANDARD
END:VTIMEZONE
BEGIN:VEVENT
DTSTART;TZID=UTC:20211203T163000
DTEND;TZID=UTC:20211203T193000
DTSTAMP:20260425T132148
CREATED:20211203T015737Z
LAST-MODIFIED:20211203T015827Z
UID:3523-1638549000-1638559800@masterkwonsprotkd.com.au
SUMMARY:Kogarah Grading Application Forms + Fees Deadline
DESCRIPTION:Hi everyone! \nGrading Application Forms & Fee Deadlines are Friday\, 3rd December 2021.  \nThank you!
URL:https://masterkwonsprotkd.com.au/event/kogarah-grading-application-forms-fees-deadline/
LOCATION:Master Kwon’s Pro Tae Kwon Do Academy\, 1 Robertson Street\, Kogarah\, NSW\, 2217\, Australia
CATEGORIES:Grading
ATTACH;FMTTYPE=image/jpeg:https://masterkwonsprotkd.com.au/wp-content/uploads/2021/12/Snapseed-14.jpg
END:VEVENT
BEGIN:VEVENT
DTSTART;TZID=UTC:20211210T160000
DTEND;TZID=UTC:20211210T193000
DTSTAMP:20260425T132148
CREATED:20211203T020155Z
LAST-MODIFIED:20211203T020155Z
UID:3526-1639152000-1639164600@masterkwonsprotkd.com.au
SUMMARY:Kogarah 2021 EOY Grading
DESCRIPTION:Hi everyone\,  \n\nGrading will start at 4:30pm sharp \nPlease come in early to get in some extra practice and stretching \nFull white uniform must be worn \nBelts must be worn correctly\, properly facing the front!\n\n▪️If you happen to display any flu-like symptoms please refrain from coming to the Dojang and let us know beforehand.  \n▫️Any further questions\, feel free to reach out at anytime.  \n▫️Good luck to all grading participants! We know you will absolutely smash it!🌟 \nThank you so much for your constant cooperation and support. We truly appreciate you all.❤️
URL:https://masterkwonsprotkd.com.au/event/kogarah-2021-eoy-grading/
LOCATION:Master Kwon’s Pro Tae Kwon Do Academy\, 1 Robertson Street\, Kogarah\, NSW\, 2217\, Australia
CATEGORIES:Event,Grading
ATTACH;FMTTYPE=image/jpeg:https://masterkwonsprotkd.com.au/wp-content/uploads/2021/12/Snapseed-15.jpg
END:VEVENT
BEGIN:VEVENT
DTSTART;TZID=UTC:20211213T170000
DTEND;TZID=UTC:20211213T180000
DTSTAMP:20260425T132148
CREATED:20211203T020440Z
LAST-MODIFIED:20211203T020440Z
UID:3529-1639414800-1639418400@masterkwonsprotkd.com.au
SUMMARY:Kurnell 2021 EOY Presentation Day
DESCRIPTION:Hi Kurnell Fam! \n\nIt will also be the last day of class for 2021.🔥\nNot mandatory but if possible\, please wear full white uniform during the Presentation. \n\nThank you for your constant cooperation and encouragement. We truly appreciate you all❤️
URL:https://masterkwonsprotkd.com.au/event/kurnell-2021-eoy-presentation-day/
LOCATION:Master Kwon’s PTKD – Kurnell\, 96 Captain Cook Dr\, Kurnell\, NSW\, 2231\, Australia
CATEGORIES:Event,Presentation
ATTACH;FMTTYPE=image/jpeg:https://masterkwonsprotkd.com.au/wp-content/uploads/2021/12/Snapseed-16.jpg
END:VEVENT
BEGIN:VEVENT
DTSTART;TZID=UTC:20211216T163000
DTEND;TZID=UTC:20211216T193000
DTSTAMP:20260425T132148
CREATED:20211203T020834Z
LAST-MODIFIED:20211203T022919Z
UID:3532-1639672200-1639683000@masterkwonsprotkd.com.au
SUMMARY:Kogarah 2021 EOY Presentation Day
DESCRIPTION:Hi Kogarah Fam!  \n\n EOY Presentation Day + Belt Promotion Day will be on Thursday\, 16th December.🔥\nPlease wear full white uniform\nWe will celebrate the end of the year with good food and company so please bring a plate of food to share\nIt will also be the last day of 2021 at our Kogarah Dojang tomorrow so let’s continue to push it to end the day on a strong note.💪🏻\n\nThank you always for your love and support!❤️
URL:https://masterkwonsprotkd.com.au/event/kogarah-2021-eoy-presentation-day/
LOCATION:Master Kwon’s Pro Tae Kwon Do Academy\, 1 Robertson Street\, Kogarah\, NSW\, 2217\, Australia
CATEGORIES:Event,Presentation
ATTACH;FMTTYPE=image/jpeg:https://masterkwonsprotkd.com.au/wp-content/uploads/2021/12/IMG_7004-scaled.jpg
END:VEVENT
BEGIN:VEVENT
DTSTART;TZID=UTC:20211217T173000
DTEND;TZID=UTC:20211217T173000
DTSTAMP:20260425T132148
CREATED:20211203T021352Z
LAST-MODIFIED:20211203T021352Z
UID:3536-1639762200-1639762200@masterkwonsprotkd.com.au
SUMMARY:Senior Demonstration Team - Sportsmanship Night
DESCRIPTION:Our Senior Demo Team have proudly been invited to present at the Korea Sports Council in Australia\, “Sportsmanship Night”
URL:https://masterkwonsprotkd.com.au/event/senior-demonstration-team-sportsmanship-night/
LOCATION:NSW
CATEGORIES:Demonstration,Event
ATTACH;FMTTYPE=image/jpeg:https://masterkwonsprotkd.com.au/wp-content/uploads/2021/10/Snapseed-11.jpg
END:VEVENT
END:VCALENDAR