BEGIN:VCALENDAR
VERSION:2.0
PRODID:-//Pro Tae Kwon Do - ECPv6.15.20//NONSGML v1.0//EN
CALSCALE:GREGORIAN
METHOD:PUBLISH
X-WR-CALNAME:Pro Tae Kwon Do
X-ORIGINAL-URL:https://masterkwonsprotkd.com.au
X-WR-CALDESC:Events for Pro Tae Kwon Do
REFRESH-INTERVAL;VALUE=DURATION:PT1H
X-Robots-Tag:noindex
X-PUBLISHED-TTL:PT1H
BEGIN:VTIMEZONE
TZID:UTC
BEGIN:STANDARD
TZOFFSETFROM:+0000
TZOFFSETTO:+0000
TZNAME:UTC
DTSTART:20200101T000000
END:STANDARD
END:VTIMEZONE
BEGIN:VEVENT
DTSTART;TZID=UTC:20210926T080000
DTEND;TZID=UTC:20210926T140000
DTSTAMP:20260425T174525
CREATED:20210626T075836Z
LAST-MODIFIED:20210626T080153Z
UID:3318-1632643200-1632664800@masterkwonsprotkd.com.au
SUMMARY:13th KTAA President Cup Tournament
DESCRIPTION:KTAA Presents\, \nThe 13th KTAA President Cup Tournament! \nDate: Sunday\, 26 September 2021 \nTime: Doors Open at 8am \nAfter almost 2 years\, KTAA is back with another tournament! We are super excited for this event and we hope you are too! \nStay tuned for more details on our social media platforms! \nFor further information\, please visit KTAA’s official Facebook page at www.facebook.com/ktaaustralia
URL:https://masterkwonsprotkd.com.au/event/13th-ktaa-president-cup-tournament/
LOCATION:Rockdale Ilinden Sports Centre\, 468 West Botany Street\, Rockdale\, NSW\, 2216\, Australia
CATEGORIES:Event
ATTACH;FMTTYPE=image/jpeg:https://masterkwonsprotkd.com.au/wp-content/uploads/2021/06/13TH-PRESIDENT-CUP-KTAA-Official-1.jpg
ORGANIZER;CN="KTAA":MAILTO:ktaaustralia@gmail.com
END:VEVENT
END:VCALENDAR