BEGIN:VCALENDAR
VERSION:2.0
PRODID:-//Pro Tae Kwon Do - ECPv6.15.20//NONSGML v1.0//EN
CALSCALE:GREGORIAN
METHOD:PUBLISH
X-ORIGINAL-URL:https://masterkwonsprotkd.com.au
X-WR-CALDESC:Events for Pro Tae Kwon Do
REFRESH-INTERVAL;VALUE=DURATION:PT1H
X-Robots-Tag:noindex
X-PUBLISHED-TTL:PT1H
BEGIN:VTIMEZONE
TZID:UTC
BEGIN:STANDARD
TZOFFSETFROM:+0000
TZOFFSETTO:+0000
TZNAME:UTC
DTSTART:20200101T000000
END:STANDARD
END:VTIMEZONE
BEGIN:VEVENT
DTSTART;TZID=UTC:20210719T170000
DTEND;TZID=UTC:20210719T180000
DTSTAMP:20260425T205037
CREATED:20210707T100050Z
LAST-MODIFIED:20210708T015017Z
UID:3271-1626714000-1626717600@masterkwonsprotkd.com.au
SUMMARY:Term 3: Kurnell Classes Resume
DESCRIPTION:Hi everyone! \nHope you all had a fun and relaxing break. \nClasses for Term 3 will resume on Monday\, 19th July at 5:00pm.  \nWe are looking forward to seeing you all back\, training harder than ever!
URL:https://masterkwonsprotkd.com.au/event/term-3-kurnell-classes-resume/
LOCATION:Master Kwon’s PTKD – Kurnell\, 96 Captain Cook Dr\, Kurnell\, NSW\, 2231\, Australia
ATTACH;FMTTYPE=image/jpeg:https://masterkwonsprotkd.com.au/wp-content/uploads/2021/06/Snapseed-15.jpg
END:VEVENT
BEGIN:VEVENT
DTSTART;TZID=UTC:20210719T170000
DTEND;TZID=UTC:20210719T180000
DTSTAMP:20260425T205037
CREATED:20210707T103036Z
LAST-MODIFIED:20210708T015045Z
UID:3275-1626714000-1626717600@masterkwonsprotkd.com.au
SUMMARY:Term 2: Kurnell Presentation + Belt Promotion
DESCRIPTION:Presentation Day for new belt promotions will be held on the first day back for Term 3 classes! \nPlease wear full white uniform on this day.
URL:https://masterkwonsprotkd.com.au/event/term-2-kurnell-presentation-belt-promotion/
LOCATION:Master Kwon’s PTKD – Kurnell\, 96 Captain Cook Dr\, Kurnell\, NSW\, 2231\, Australia
CATEGORIES:Presentation
ATTACH;FMTTYPE=image/jpeg:https://masterkwonsprotkd.com.au/wp-content/uploads/2021/06/Snapseed-24.jpg
END:VEVENT
END:VCALENDAR