BEGIN:VCALENDAR
VERSION:2.0
PRODID:-//Pro Tae Kwon Do - ECPv6.15.20//NONSGML v1.0//EN
CALSCALE:GREGORIAN
METHOD:PUBLISH
X-WR-CALNAME:Pro Tae Kwon Do
X-ORIGINAL-URL:https://masterkwonsprotkd.com.au
X-WR-CALDESC:Events for Pro Tae Kwon Do
REFRESH-INTERVAL;VALUE=DURATION:PT1H
X-Robots-Tag:noindex
X-PUBLISHED-TTL:PT1H
BEGIN:VTIMEZONE
TZID:UTC
BEGIN:STANDARD
TZOFFSETFROM:+0000
TZOFFSETTO:+0000
TZNAME:UTC
DTSTART:20200101T000000
END:STANDARD
END:VTIMEZONE
BEGIN:VTIMEZONE
TZID:Australia/Sydney
BEGIN:STANDARD
TZOFFSETFROM:+1100
TZOFFSETTO:+1000
TZNAME:AEST
DTSTART:20200404T160000
END:STANDARD
BEGIN:DAYLIGHT
TZOFFSETFROM:+1000
TZOFFSETTO:+1100
TZNAME:AEDT
DTSTART:20201003T160000
END:DAYLIGHT
BEGIN:STANDARD
TZOFFSETFROM:+1100
TZOFFSETTO:+1000
TZNAME:AEST
DTSTART:20210403T160000
END:STANDARD
BEGIN:DAYLIGHT
TZOFFSETFROM:+1000
TZOFFSETTO:+1100
TZNAME:AEDT
DTSTART:20211002T160000
END:DAYLIGHT
BEGIN:STANDARD
TZOFFSETFROM:+1100
TZOFFSETTO:+1000
TZNAME:AEST
DTSTART:20220402T160000
END:STANDARD
BEGIN:DAYLIGHT
TZOFFSETFROM:+1000
TZOFFSETTO:+1100
TZNAME:AEDT
DTSTART:20221001T160000
END:DAYLIGHT
END:VTIMEZONE
BEGIN:VEVENT
DTSTART;TZID=UTC:20210719T170000
DTEND;TZID=UTC:20210719T180000
DTSTAMP:20260425T132728
CREATED:20210707T100050Z
LAST-MODIFIED:20210708T015017Z
UID:3271-1626714000-1626717600@masterkwonsprotkd.com.au
SUMMARY:Term 3: Kurnell Classes Resume
DESCRIPTION:Hi everyone! \nHope you all had a fun and relaxing break. \nClasses for Term 3 will resume on Monday\, 19th July at 5:00pm.  \nWe are looking forward to seeing you all back\, training harder than ever!
URL:https://masterkwonsprotkd.com.au/event/term-3-kurnell-classes-resume/
LOCATION:Master Kwon’s PTKD – Kurnell\, 96 Captain Cook Dr\, Kurnell\, NSW\, 2231\, Australia
ATTACH;FMTTYPE=image/jpeg:https://masterkwonsprotkd.com.au/wp-content/uploads/2021/06/Snapseed-15.jpg
END:VEVENT
BEGIN:VEVENT
DTSTART;TZID=UTC:20210621T170000
DTEND;TZID=UTC:20210621T180000
DTSTAMP:20260425T132728
CREATED:20210607T100043Z
LAST-MODIFIED:20210624T102343Z
UID:3267-1624294800-1624298400@masterkwonsprotkd.com.au
SUMMARY:Term 2: Kurnell Grading
DESCRIPTION:Date: Monday\, 21st June 2021 \nTime: 5:00pm ~ 6:00pm \nPlease do not forget your application form\, fee\, full white uniform and most importantly your smile and confidence!
URL:https://masterkwonsprotkd.com.au/event/term-2-kurnell-grading/
LOCATION:Master Kwon’s PTKD – Kurnell\, 96 Captain Cook Dr\, Kurnell\, NSW\, 2231\, Australia
CATEGORIES:Grading
ATTACH;FMTTYPE=image/jpeg:https://masterkwonsprotkd.com.au/wp-content/uploads/2021/06/Snapseed-12-2.jpg
END:VEVENT
BEGIN:VEVENT
DTSTART;TZID=UTC:20210529T190000
DTEND;TZID=UTC:20210529T210000
DTSTAMP:20260425T132728
CREATED:20210505T100036Z
LAST-MODIFIED:20210626T080012Z
UID:3262-1622314800-1622322000@masterkwonsprotkd.com.au
SUMMARY:Pro TKD & Hapkido Online Seminar
DESCRIPTION:The International Pro Taekwondo Federation (IPTF) is holding an online seminar on Saturday\, 29th May 2021\, 7pm AEST through zoom. \nThe Seminar will have guest teachers\, Grandmaster Wha Sik Kim\, Grandmaster Dosa Kwon and Grandmaster Ando\, where they will be demonstrating amazing skills and techniques of martial arts.
URL:https://masterkwonsprotkd.com.au/event/pro-tkd-hapkido-online-seminar/
LOCATION:NSW
CATEGORIES:Event
ATTACH;FMTTYPE=image/jpeg:https://masterkwonsprotkd.com.au/wp-content/uploads/2021/06/IMG_3362.jpg
END:VEVENT
BEGIN:VEVENT
DTSTART;TZID=UTC:20210518T163000
DTEND;TZID=UTC:20210518T193000
DTSTAMP:20260425T132728
CREATED:20210508T100034Z
LAST-MODIFIED:20210624T085405Z
UID:326-1621355400-1621366200@masterkwonsprotkd.com.au
SUMMARY:Term 2: Kogarah Presentation + Belt Promotion
DESCRIPTION:Date: Tuesday\, 18th May 2021 \nTime: During your usual class time \nPlease wear full white uniform!
URL:https://masterkwonsprotkd.com.au/event/april-black-belt-exam/
LOCATION:Master Kwon’s Pro Tae Kwon Do Academy\, 1 Robertson Street\, Kogarah\, NSW\, 2217\, Australia
CATEGORIES:Presentation
ATTACH;FMTTYPE=image/jpeg:https://masterkwonsprotkd.com.au/wp-content/uploads/2016/11/IMG_3361.jpg
END:VEVENT
BEGIN:VEVENT
DTSTART;TZID=Australia/Sydney:20210507T163000
DTEND;TZID=Australia/Sydney:20210507T193000
DTSTAMP:20260425T132728
CREATED:20210409T163057Z
LAST-MODIFIED:20210624T085356Z
UID:332-1620405000-1620415800@masterkwonsprotkd.com.au
SUMMARY:Term 2: Kogarah Grading
DESCRIPTION:Date: Friday\, 7th May 2021 \nJunior Grading: 4:30pm \nSenior Grading: 5:30pm \nPlease do not forget your application form\, fee\, full white uniform and most importantly your smile and confidence!
URL:https://masterkwonsprotkd.com.au/event/kurnell-may-grading/
LOCATION:Master Kwon’s Pro Tae Kwon Do Academy\, 1 Robertson Street\, Kogarah\, NSW\, 2217\, Australia
CATEGORIES:Grading
ATTACH;FMTTYPE=image/jpeg:https://masterkwonsprotkd.com.au/wp-content/uploads/2021/05/maygrading.jpg
END:VEVENT
END:VCALENDAR