BEGIN:VCALENDAR
VERSION:2.0
PRODID:-//Pro Tae Kwon Do - ECPv6.15.20//NONSGML v1.0//EN
CALSCALE:GREGORIAN
METHOD:PUBLISH
X-ORIGINAL-URL:https://masterkwonsprotkd.com.au
X-WR-CALDESC:Events for Pro Tae Kwon Do
REFRESH-INTERVAL;VALUE=DURATION:PT1H
X-Robots-Tag:noindex
X-PUBLISHED-TTL:PT1H
BEGIN:VTIMEZONE
TZID:UTC
BEGIN:STANDARD
TZOFFSETFROM:+0000
TZOFFSETTO:+0000
TZNAME:UTC
DTSTART:20230101T000000
END:STANDARD
END:VTIMEZONE
BEGIN:VEVENT
DTSTART;VALUE=DATE:20241216
DTEND;VALUE=DATE:20241217
DTSTAMP:20260421T092604
CREATED:20241203T055142Z
LAST-MODIFIED:20241203T055142Z
UID:4733-1734307200-1734393599@masterkwonsprotkd.com.au
SUMMARY:Kurnell - Last Day of Classes for 2024
DESCRIPTION:
URL:https://masterkwonsprotkd.com.au/event/kurnell-last-day-of-classes-for-2024/
LOCATION:Master Kwon’s PTKD – Kurnell\, 96 Captain Cook Dr\, Kurnell\, NSW\, 2231\, Australia
CATEGORIES:Event
ATTACH;FMTTYPE=image/png:https://masterkwonsprotkd.com.au/wp-content/uploads/2024/12/IMG_4834.png
END:VEVENT
BEGIN:VEVENT
DTSTART;TZID=UTC:20241216T170000
DTEND;TZID=UTC:20241216T180000
DTSTAMP:20260421T092604
CREATED:20241203T054934Z
LAST-MODIFIED:20241203T054934Z
UID:4729-1734368400-1734372000@masterkwonsprotkd.com.au
SUMMARY:Kurnell - 2024 EOY Presentation Day
DESCRIPTION:▪️This day will also be the Last Day of classes for 2024!
URL:https://masterkwonsprotkd.com.au/event/kurnell-2024-eoy-presentation-day/
LOCATION:Master Kwon’s PTKD – Kurnell\, 96 Captain Cook Dr\, Kurnell\, NSW\, 2231\, Australia
CATEGORIES:Event,Presentation
ATTACH;FMTTYPE=image/png:https://masterkwonsprotkd.com.au/wp-content/uploads/2024/12/IMG_0193.png
END:VEVENT
END:VCALENDAR