BEGIN:VCALENDAR
VERSION:2.0
PRODID:-//Pro Tae Kwon Do - ECPv6.15.20//NONSGML v1.0//EN
CALSCALE:GREGORIAN
METHOD:PUBLISH
X-WR-CALNAME:Pro Tae Kwon Do
X-ORIGINAL-URL:https://masterkwonsprotkd.com.au
X-WR-CALDESC:Events for Pro Tae Kwon Do
REFRESH-INTERVAL;VALUE=DURATION:PT1H
X-Robots-Tag:noindex
X-PUBLISHED-TTL:PT1H
BEGIN:VTIMEZONE
TZID:UTC
BEGIN:STANDARD
TZOFFSETFROM:+0000
TZOFFSETTO:+0000
TZNAME:UTC
DTSTART:20230101T000000
END:STANDARD
END:VTIMEZONE
BEGIN:VEVENT
DTSTART;VALUE=DATE:20240917
DTEND;VALUE=DATE:20240918
DTSTAMP:20260421T124135
CREATED:20240917T092838Z
LAST-MODIFIED:20240917T092838Z
UID:4667-1726531200-1726617599@masterkwonsprotkd.com.au
SUMMARY:Chuseok 2024
DESCRIPTION:🌕𝗛𝗔𝗣𝗣𝗬 𝗖𝗛𝗨𝗦𝗘𝗢𝗞 & 𝗠𝗜𝗗-𝗔𝗨𝗧𝗨𝗠𝗡 𝗙𝗘𝗦𝗧𝗜𝗩𝗔𝗟🌕 \n풍요롭고 행복한 추석 보내세요✨
URL:https://masterkwonsprotkd.com.au/event/chuseok-2024/
LOCATION:NSW
CATEGORIES:Event
ATTACH;FMTTYPE=image/png:https://masterkwonsprotkd.com.au/wp-content/uploads/2024/09/Chuseok-2024.png
END:VEVENT
END:VCALENDAR