BEGIN:VCALENDAR
VERSION:2.0
PRODID:-//Pro Tae Kwon Do - ECPv6.15.20//NONSGML v1.0//EN
CALSCALE:GREGORIAN
METHOD:PUBLISH
X-ORIGINAL-URL:https://masterkwonsprotkd.com.au
X-WR-CALDESC:Events for Pro Tae Kwon Do
REFRESH-INTERVAL;VALUE=DURATION:PT1H
X-Robots-Tag:noindex
X-PUBLISHED-TTL:PT1H
BEGIN:VTIMEZONE
TZID:UTC
BEGIN:STANDARD
TZOFFSETFROM:+0000
TZOFFSETTO:+0000
TZNAME:UTC
DTSTART:20230101T000000
END:STANDARD
END:VTIMEZONE
BEGIN:VEVENT
DTSTART;VALUE=DATE:20240618
DTEND;VALUE=DATE:20240801
DTSTAMP:20260421T153708
CREATED:20240802T233851Z
LAST-MODIFIED:20240802T233851Z
UID:4596-1718668800-1722470399@masterkwonsprotkd.com.au
SUMMARY:Grandmaster Kim X MKPTKD - 2024 Hapkido Workshop
DESCRIPTION:
URL:https://masterkwonsprotkd.com.au/event/grandmaster-kim-x-mkptkd-2024-hapkido-workshop/
LOCATION:NSW
CATEGORIES:Event
ATTACH;FMTTYPE=image/png:https://masterkwonsprotkd.com.au/wp-content/uploads/2024/08/Screen-Shot-2024-08-03-at-9.32.23-am.png
END:VEVENT
BEGIN:VEVENT
DTSTART;TZID=UTC:20240708T080000
DTEND;TZID=UTC:20240719T170000
DTSTAMP:20260421T153708
CREATED:20240703T015614Z
LAST-MODIFIED:20240703T020723Z
UID:4564-1720425600-1721408400@masterkwonsprotkd.com.au
SUMMARY:Winter School Holidays 2024
DESCRIPTION:Hi Everyone! \n\n\n\n🔹Kogarah Dojang will be OPEN during the School Holidays!✨ \n\n\n\n🔹Regular class times and schedules \n\n\n\n🔸Kurnell Dojang will be CLOSED during the School Holidays \n\n\n\n🔸Term 3 Classes will commence on MONDAY\, 22ND JULY 2024 \n\n\n\nThank you!❤️💙
URL:https://masterkwonsprotkd.com.au/event/winter-school-holidays-2024/
LOCATION:Master Kwon’s Pro Tae Kwon Do Academy\, 1 Robertson Street\, Kogarah\, NSW\, 2217\, Australia
ATTACH;FMTTYPE=image/png:https://masterkwonsprotkd.com.au/wp-content/uploads/2024/07/White-and-Grey-Modern-We-Are-Open-Facebook-Post.png
END:VEVENT
END:VCALENDAR