BEGIN:VCALENDAR
VERSION:2.0
PRODID:-//Pro Tae Kwon Do - ECPv6.15.20//NONSGML v1.0//EN
CALSCALE:GREGORIAN
METHOD:PUBLISH
X-ORIGINAL-URL:https://masterkwonsprotkd.com.au
X-WR-CALDESC:Events for Pro Tae Kwon Do
REFRESH-INTERVAL;VALUE=DURATION:PT1H
X-Robots-Tag:noindex
X-PUBLISHED-TTL:PT1H
BEGIN:VTIMEZONE
TZID:UTC
BEGIN:STANDARD
TZOFFSETFROM:+0000
TZOFFSETTO:+0000
TZNAME:UTC
DTSTART:20230101T000000
END:STANDARD
END:VTIMEZONE
BEGIN:VEVENT
DTSTART;TZID=UTC:20240503T163000
DTEND;TZID=UTC:20240503T193000
DTSTAMP:20260421T181528
CREATED:20240223T055705Z
LAST-MODIFIED:20240223T060040Z
UID:4378-1714753800-1714764600@masterkwonsprotkd.com.au
SUMMARY:KOGARAH - MAY 2024 GRADING
DESCRIPTION:
URL:https://masterkwonsprotkd.com.au/event/kogarah-2024-grading-1/
LOCATION:Master Kwon’s Pro Tae Kwon Do Academy\, 1 Robertson Street\, Kogarah\, NSW\, 2217\, Australia
CATEGORIES:Grading
ATTACH;FMTTYPE=image/png:https://masterkwonsprotkd.com.au/wp-content/uploads/2024/02/Grading-Save-the-date.png
END:VEVENT
END:VCALENDAR