BEGIN:VCALENDAR
VERSION:2.0
PRODID:-//Pro Tae Kwon Do - ECPv6.15.20//NONSGML v1.0//EN
CALSCALE:GREGORIAN
METHOD:PUBLISH
X-WR-CALNAME:Pro Tae Kwon Do
X-ORIGINAL-URL:https://masterkwonsprotkd.com.au
X-WR-CALDESC:Events for Pro Tae Kwon Do
REFRESH-INTERVAL;VALUE=DURATION:PT1H
X-Robots-Tag:noindex
X-PUBLISHED-TTL:PT1H
BEGIN:VTIMEZONE
TZID:UTC
BEGIN:STANDARD
TZOFFSETFROM:+0000
TZOFFSETTO:+0000
TZNAME:UTC
DTSTART:20230101T000000
END:STANDARD
END:VTIMEZONE
BEGIN:VEVENT
DTSTART;TZID=UTC:20240329T080000
DTEND;TZID=UTC:20240401T170000
DTSTAMP:20260421T225214
CREATED:20240319T061850Z
LAST-MODIFIED:20240409T064817Z
UID:4396-1711699200-1711990800@masterkwonsprotkd.com.au
SUMMARY:Easter Break 2024
DESCRIPTION:🐰𝗘𝗔𝗦𝗧𝗘𝗥 𝗕𝗥𝗘𝗔𝗞 𝟮𝟬𝟮𝟰 – 𝗡𝗢 𝗖𝗟𝗔𝗦𝗦𝗘𝗦🐰 \nHi Everyone\,  \nKogarah Dojang | Good Friday (29.03.2024) – CLOSED \nKurnell Dojang | Easter Monday (01.04.2024) – CLOSED \nThank you!!💛
URL:https://masterkwonsprotkd.com.au/event/easter-break-2024/
LOCATION:NSW
CATEGORIES:Event
ATTACH;FMTTYPE=image/png:https://masterkwonsprotkd.com.au/wp-content/uploads/2024/03/Cream-Modern-Easter-Business-Open-Hours-Instagram-Post.png
END:VEVENT
END:VCALENDAR