BEGIN:VCALENDAR
VERSION:2.0
PRODID:-//Pro Tae Kwon Do - ECPv6.15.20//NONSGML v1.0//EN
CALSCALE:GREGORIAN
METHOD:PUBLISH
X-ORIGINAL-URL:https://masterkwonsprotkd.com.au
X-WR-CALDESC:Events for Pro Tae Kwon Do
REFRESH-INTERVAL;VALUE=DURATION:PT1H
X-Robots-Tag:noindex
X-PUBLISHED-TTL:PT1H
BEGIN:VTIMEZONE
TZID:UTC
BEGIN:STANDARD
TZOFFSETFROM:+0000
TZOFFSETTO:+0000
TZNAME:UTC
DTSTART:20230101T000000
END:STANDARD
END:VTIMEZONE
BEGIN:VEVENT
DTSTART;VALUE=DATE:20240126
DTEND;VALUE=DATE:20240127
DTSTAMP:20260422T003246
CREATED:20240123T221232Z
LAST-MODIFIED:20240123T221232Z
UID:4368-1706227200-1706313599@masterkwonsprotkd.com.au
SUMMARY:Australia Day 2024 - No Classes
DESCRIPTION:🇦🇺𝗔𝗨𝗦 𝗗𝗔𝗬 𝟮𝟬𝟮𝟰 – 𝗡𝗢 𝗖𝗟𝗔𝗦𝗦𝗘𝗦🇦🇺 \n \nGood morning! \n \n▪️Quick announcement regarding Australia Day this Friday\, 25TH JAN 2024 \n \n▫️Kogarah will be CLOSED as it is a Public Holiday. \n \n▫️For those who only come on Fridays\, please come on Thursday or an extra class next week to make up for Friday’s Public Holiday Closure. \n \nThank you and make sure to stay hydrated in today’s heat!☀️☀️
URL:https://masterkwonsprotkd.com.au/event/australia-day-2024-no-classes/
LOCATION:Master Kwon’s Pro Tae Kwon Do Academy\, 1 Robertson Street\, Kogarah\, NSW\, 2217\, Australia
ATTACH;FMTTYPE=image/png:https://masterkwonsprotkd.com.au/wp-content/uploads/2024/01/AUS-DAY-SQUARE-POST.png
END:VEVENT
END:VCALENDAR