BEGIN:VCALENDAR
VERSION:2.0
PRODID:-//Pro Tae Kwon Do - ECPv6.15.20//NONSGML v1.0//EN
CALSCALE:GREGORIAN
METHOD:PUBLISH
X-WR-CALNAME:Pro Tae Kwon Do
X-ORIGINAL-URL:https://masterkwonsprotkd.com.au
X-WR-CALDESC:Events for Pro Tae Kwon Do
REFRESH-INTERVAL;VALUE=DURATION:PT1H
X-Robots-Tag:noindex
X-PUBLISHED-TTL:PT1H
BEGIN:VTIMEZONE
TZID:UTC
BEGIN:STANDARD
TZOFFSETFROM:+0000
TZOFFSETTO:+0000
TZNAME:UTC
DTSTART:20230101T000000
END:STANDARD
END:VTIMEZONE
BEGIN:VEVENT
DTSTART;TZID=UTC:20240123T163000
DTEND;TZID=UTC:20240123T193000
DTSTAMP:20260422T003157
CREATED:20231218T033725Z
LAST-MODIFIED:20231219T050652Z
UID:4302-1706027400-1706038200@masterkwonsprotkd.com.au
SUMMARY:Kogarah - 2024 Classes Commences
DESCRIPTION:
URL:https://masterkwonsprotkd.com.au/event/kogarah-2024-classes-commences/
LOCATION:Master Kwon’s Pro Tae Kwon Do Academy\, 1 Robertson Street\, Kogarah\, NSW\, 2217\, Australia
CATEGORIES:Event
ATTACH;FMTTYPE=image/png:https://masterkwonsprotkd.com.au/wp-content/uploads/2023/12/Screen-Shot-2023-12-18-at-2.37.03-pm.png
END:VEVENT
END:VCALENDAR