BEGIN:VCALENDAR
VERSION:2.0
PRODID:-//Pro Tae Kwon Do - ECPv6.15.20//NONSGML v1.0//EN
CALSCALE:GREGORIAN
METHOD:PUBLISH
X-WR-CALNAME:Pro Tae Kwon Do
X-ORIGINAL-URL:https://masterkwonsprotkd.com.au
X-WR-CALDESC:Events for Pro Tae Kwon Do
REFRESH-INTERVAL;VALUE=DURATION:PT1H
X-Robots-Tag:noindex
X-PUBLISHED-TTL:PT1H
BEGIN:VTIMEZONE
TZID:UTC
BEGIN:STANDARD
TZOFFSETFROM:+0000
TZOFFSETTO:+0000
TZNAME:UTC
DTSTART:20220101T000000
END:STANDARD
END:VTIMEZONE
BEGIN:VEVENT
DTSTART;TZID=UTC:20231127T170000
DTEND;TZID=UTC:20231127T180000
DTSTAMP:20260422T020538
CREATED:20231016T094646Z
LAST-MODIFIED:20231016T094646Z
UID:4223-1701104400-1701108000@masterkwonsprotkd.com.au
SUMMARY:Kurnell Dojang - 2023 EOY Grading
DESCRIPTION:
URL:https://masterkwonsprotkd.com.au/event/kurnell-dojang-2023-eoy-grading/
LOCATION:Master Kwon’s PTKD – Kurnell\, 96 Captain Cook Dr\, Kurnell\, NSW\, 2231\, Australia
CATEGORIES:Grading
ATTACH;FMTTYPE=image/jpeg:https://masterkwonsprotkd.com.au/wp-content/uploads/2023/10/IMG_8081.jpg
END:VEVENT
END:VCALENDAR