BEGIN:VCALENDAR
VERSION:2.0
PRODID:-//Pro Tae Kwon Do - ECPv6.15.20//NONSGML v1.0//EN
CALSCALE:GREGORIAN
METHOD:PUBLISH
X-ORIGINAL-URL:https://masterkwonsprotkd.com.au
X-WR-CALDESC:Events for Pro Tae Kwon Do
REFRESH-INTERVAL;VALUE=DURATION:PT1H
X-Robots-Tag:noindex
X-PUBLISHED-TTL:PT1H
BEGIN:VTIMEZONE
TZID:UTC
BEGIN:STANDARD
TZOFFSETFROM:+0000
TZOFFSETTO:+0000
TZNAME:UTC
DTSTART:20220101T000000
END:STANDARD
END:VTIMEZONE
BEGIN:VEVENT
DTSTART;TZID=UTC:20230821T170000
DTEND;TZID=UTC:20230821T180000
DTSTAMP:20260424T080913
CREATED:20230627T073425Z
LAST-MODIFIED:20230627T073425Z
UID:4116-1692637200-1692640800@masterkwonsprotkd.com.au
SUMMARY:Kurnell - Term 3 Classes Start!
DESCRIPTION:
URL:https://masterkwonsprotkd.com.au/event/kurnell-term-3-classes-start/
LOCATION:Master Kwon’s PTKD – Kurnell\, 96 Captain Cook Dr\, Kurnell\, NSW\, 2231\, Australia
CATEGORIES:Event
ATTACH;FMTTYPE=image/jpeg:https://masterkwonsprotkd.com.au/wp-content/uploads/2023/06/IMG_3948-scaled.jpg
END:VEVENT
END:VCALENDAR