BEGIN:VCALENDAR
VERSION:2.0
PRODID:-//Pro Tae Kwon Do - ECPv6.15.20//NONSGML v1.0//EN
CALSCALE:GREGORIAN
METHOD:PUBLISH
X-ORIGINAL-URL:https://masterkwonsprotkd.com.au
X-WR-CALDESC:Events for Pro Tae Kwon Do
REFRESH-INTERVAL;VALUE=DURATION:PT1H
X-Robots-Tag:noindex
X-PUBLISHED-TTL:PT1H
BEGIN:VTIMEZONE
TZID:UTC
BEGIN:STANDARD
TZOFFSETFROM:+0000
TZOFFSETTO:+0000
TZNAME:UTC
DTSTART:20210101T000000
END:STANDARD
END:VTIMEZONE
BEGIN:VEVENT
DTSTART;TZID=UTC:20221016T080000
DTEND;TZID=UTC:20221016T170000
DTSTAMP:20260425T001219
CREATED:20220710T081222Z
LAST-MODIFIED:20220710T081222Z
UID:3754-1665907200-1665939600@masterkwonsprotkd.com.au
SUMMARY:THE 17TH KTAA TOURNAMENT
DESCRIPTION:KTAA Presents\,  \nThe 17th KTAA Tournament🏆 \nDate: Sunday\, 16 October 2022 \nTime: Doors Open at 8am \nVenue: Hurstville Aquatic Centre  \nMake sure to save the date and stay tuned for more details on our social media platforms! \nFor further information\, please visit KTAA’s official Facebook page at www.facebook.com/ktaaustralia or message us for more info  \n-KTAA
URL:https://masterkwonsprotkd.com.au/event/the-17th-ktaa-tournament/
LOCATION:Hurstville Aquatic Centre\, Cnr King Georges & Forest Rd\, Hurstville\, NSW\, 2221\, Australia
CATEGORIES:Event
ATTACH;FMTTYPE=image/jpeg:https://masterkwonsprotkd.com.au/wp-content/uploads/2022/07/17TH-PRESIDENT-CUP-KTAA.jpg
ORGANIZER;CN="KTAA":MAILTO:ktaaustralia@gmail.com
END:VEVENT
END:VCALENDAR