BEGIN:VCALENDAR
VERSION:2.0
PRODID:-//Pro Tae Kwon Do - ECPv6.15.20//NONSGML v1.0//EN
CALSCALE:GREGORIAN
METHOD:PUBLISH
X-ORIGINAL-URL:https://masterkwonsprotkd.com.au
X-WR-CALDESC:Events for Pro Tae Kwon Do
REFRESH-INTERVAL;VALUE=DURATION:PT1H
X-Robots-Tag:noindex
X-PUBLISHED-TTL:PT1H
BEGIN:VTIMEZONE
TZID:UTC
BEGIN:STANDARD
TZOFFSETFROM:+0000
TZOFFSETTO:+0000
TZNAME:UTC
DTSTART:20210101T000000
END:STANDARD
END:VTIMEZONE
BEGIN:VEVENT
DTSTART;TZID=UTC:20221010T170000
DTEND;TZID=UTC:20221010T180000
DTSTAMP:20260425T001219
CREATED:20220920T100613Z
LAST-MODIFIED:20220920T100613Z
UID:3831-1665421200-1665424800@masterkwonsprotkd.com.au
SUMMARY:Kurnell - Term 4 Resume
DESCRIPTION:
URL:https://masterkwonsprotkd.com.au/event/kurnell-term-4-resume/
LOCATION:Master Kwon’s PTKD – Kurnell\, 96 Captain Cook Dr\, Kurnell\, NSW\, 2231\, Australia
CATEGORIES:Event
ATTACH;FMTTYPE=image/jpeg:https://masterkwonsprotkd.com.au/wp-content/uploads/2022/09/IMG_0425.jpg
END:VEVENT
END:VCALENDAR