BEGIN:VCALENDAR
VERSION:2.0
PRODID:-//Pro Tae Kwon Do - ECPv6.15.20//NONSGML v1.0//EN
CALSCALE:GREGORIAN
METHOD:PUBLISH
X-WR-CALNAME:Pro Tae Kwon Do
X-ORIGINAL-URL:https://masterkwonsprotkd.com.au
X-WR-CALDESC:Events for Pro Tae Kwon Do
REFRESH-INTERVAL;VALUE=DURATION:PT1H
X-Robots-Tag:noindex
X-PUBLISHED-TTL:PT1H
BEGIN:VTIMEZONE
TZID:UTC
BEGIN:STANDARD
TZOFFSETFROM:+0000
TZOFFSETTO:+0000
TZNAME:UTC
DTSTART:20210101T000000
END:STANDARD
END:VTIMEZONE
BEGIN:VEVENT
DTSTART;TZID=UTC:20220118T163000
DTEND;TZID=UTC:20220118T193000
DTSTAMP:20260425T132137
CREATED:20211203T021511Z
LAST-MODIFIED:20220101T000101Z
UID:3538-1642523400-1642534200@masterkwonsprotkd.com.au
SUMMARY:Kogarah Dojang - 2022 Class Start
DESCRIPTION:
URL:https://masterkwonsprotkd.com.au/event/kogarah-dojang-2022-class-start/
LOCATION:Master Kwon’s Pro Tae Kwon Do Academy\, 1 Robertson Street\, Kogarah\, NSW\, 2217\, Australia
CATEGORIES:Event
ATTACH;FMTTYPE=image/jpeg:https://masterkwonsprotkd.com.au/wp-content/uploads/2021/12/IMG_6200.jpg
END:VEVENT
END:VCALENDAR